BEGIN:VCALENDAR
VERSION:2.0
PRODID:Events Booking
BEGIN:VEVENT
UID:69e8d7e6b2971
SUMMARY:4 June 2026 - SAEPA
DESCRIPTION:
LOCATION:Virtual
DTSTART:20260604T070000Z
DTEND:20260604T130000Z
DTSTAMP:20251211T054509Z
ORGANIZER;CN=Transport Forum:MAILTO:info@transportsig.com
END:VEVENT
END:VCALENDAR