BEGIN:VCALENDAR
VERSION:2.0
PRODID:Events Booking
BEGIN:VEVENT
UID:69e92dd4ca4e0
SUMMARY:5 November 2026 - Transport Forum SIG
DESCRIPTION:
LOCATION:Virtual
DTSTART:20261105T070000Z
DTEND:20261105T120000Z
DTSTAMP:20251211T055341Z
ORGANIZER;CN=Transport Forum:MAILTO:info@transportsig.com
END:VEVENT
END:VCALENDAR