BEGIN:VCALENDAR
VERSION:2.0
PRODID:Events Booking
BEGIN:VEVENT
UID:69ea7fdae8309
SUMMARY:5th Annual Future Warehouse & Logistics 2024
DESCRIPTION:
LOCATION:Dubai\, UAE
DTSTART:20240212T060000Z
DTEND:20240215T140000Z
DTSTAMP:20231218T102854Z
ORGANIZER;CN=Transport Forum:MAILTO:info@transportsig.com
END:VEVENT
END:VCALENDAR