BEGIN:VCALENDAR
VERSION:2.0
PRODID:Events Booking
BEGIN:VEVENT
UID:69ea7fb5c1fdc
SUMMARY:5th Annual Future Warehouse & Logistics 
DESCRIPTION:
LOCATION:Dubai\, UAE
DTSTART:20240212T060000Z
DTEND:20240215T150000Z
DTSTAMP:20231130T185655Z
ORGANIZER;CN=Transport Forum:MAILTO:info@transportsig.com
END:VEVENT
END:VCALENDAR