BEGIN:VCALENDAR
VERSION:2.0
PRODID:Events Booking
BEGIN:VEVENT
UID:69e8f87066c74
SUMMARY:6 August 2026 - Road Freight Association
DESCRIPTION:
LOCATION:Johannesburg
DTSTART:20260806T070000Z
DTEND:20260806T130000Z
DTSTAMP:20251211T054901Z
ORGANIZER;CN=Transport Forum:MAILTO:info@transportsig.com
END:VEVENT
END:VCALENDAR