BEGIN:VCALENDAR
VERSION:2.0
PRODID:Events Booking
BEGIN:VEVENT
UID:69e90ca982bf1
SUMMARY:6 November 2025 - REFORM OR RETREAT: Is South Africa strong enough 
 at this inflection point to unlock growth and sustainability?
DESCRIPTION:
LOCATION:Virtual
DTSTART:20251106T070000Z
DTEND:20251106T093000Z
DTSTAMP:20250127T060252Z
ORGANIZER;CN=Transport Forum:MAILTO:info@transportsig.com
END:VEVENT
END:VCALENDAR