BEGIN:VCALENDAR
VERSION:2.0
PRODID:Events Booking
BEGIN:VEVENT
UID:69e91c609f61c
SUMMARY:6 October 2025 - Alternative Approach
DESCRIPTION:
LOCATION:78 3rd Avenue\; Westdene\; Johannesburg\; 2092
DTSTART:20251006T080000Z
DTEND:20251006T140000Z
DTSTAMP:20250909T230912Z
ORGANIZER;CN=Transport Forum:MAILTO:info@transportsig.com
END:VEVENT
END:VCALENDAR