BEGIN:VCALENDAR
VERSION:2.0
PRODID:Events Booking
BEGIN:VEVENT
UID:69e951d06ccf5
SUMMARY:7 August 2025 - Digital Dynamics: Masterclass on Moving Forward\, E
 ffectively
DESCRIPTION:
LOCATION:44 Viewpoint Street\, Bartlett\, Boksburg\, 1459
DTSTART:20250807T060000Z
DTEND:20250807T110000Z
DTSTAMP:20250627T082158Z
ORGANIZER;CN=Transport Forum:MAILTO:info@transportsig.com
END:VEVENT
END:VCALENDAR