BEGIN:VCALENDAR
VERSION:2.0
PRODID:Events Booking
BEGIN:VEVENT
UID:69ea818eac1b7
SUMMARY:8 February 2024 - Innovation in Public Transport
DESCRIPTION:
LOCATION:Virtual
DTSTART:20240208T070000Z
DTEND:20240208T110000Z
DTSTAMP:20231208T070117Z
ORGANIZER;CN=Transport Forum:MAILTO:info@transportsig.com
END:VEVENT
END:VCALENDAR