BEGIN:VCALENDAR
VERSION:2.0
PRODID:Events Booking
BEGIN:VEVENT
UID:69e978a80fc93
SUMMARY:8 May 2025 - RTMS Workshop - Durban
DESCRIPTION:
LOCATION:1 Kingsmead Way\, Kingsmead\, Durban
DTSTART:20250508T064500Z
DTEND:20250508T120000Z
DTSTAMP:20250402T060501Z
ORGANIZER;CN=Transport Forum:MAILTO:info@transportsig.com
END:VEVENT
END:VCALENDAR