BEGIN:VCALENDAR
VERSION:2.0
PRODID:Events Booking
BEGIN:VEVENT
UID:69e91cd6b907e
SUMMARY:9 October 2025 - Technology Innovation in Transport
DESCRIPTION:
LOCATION:44 Viewpoint Street\, Bartlett\, Boksburg\, 1459
DTSTART:20251009T070000Z
DTEND:20251009T123000Z
DTSTAMP:20250402T060501Z
ORGANIZER;CN=Transport Forum:MAILTO:info@transportsig.com
END:VEVENT
END:VCALENDAR