BEGIN:VCALENDAR
VERSION:2.0
PRODID:Events Booking
BEGIN:VEVENT
UID:69eaa59f0eef4
SUMMARY:9th Edition East Africa Transport & Infrastructure
DESCRIPTION:
LOCATION:Dar es Salaam
DTSTART:20231211T060000Z
DTEND:20231212T150000Z
DTSTAMP:20231115T202343Z
ORGANIZER;CN=Transport Forum:MAILTO:info@transportsig.com
END:VEVENT
END:VCALENDAR