BEGIN:VCALENDAR
VERSION:2.0
PRODID:Events Booking
BEGIN:VEVENT
UID:69e8c13c1bbb1
SUMMARY:AARTO Preparedness Seminar – Live Zoom 
DESCRIPTION:
LOCATION:Live Zoom 
DTSTART:20260317T060000Z
DTEND:20260316T220000Z
DTSTAMP:20260312T174136Z
ORGANIZER;CN=Transport Forum:MAILTO:info@transportsig.com
END:VEVENT
END:VCALENDAR