BEGIN:VCALENDAR
VERSION:2.0
PRODID:Events Booking
BEGIN:VEVENT
UID:69e90ad2839cc
SUMMARY: AARTO Webinars
DESCRIPTION:
LOCATION:Webinar
DTSTART:20251120T070000Z
DTEND:20251120T110000Z
DTSTAMP:20251106T142422Z
ORGANIZER;CN=Transport Forum:MAILTO:info@transportsig.com
END:VEVENT
END:VCALENDAR