BEGIN:VCALENDAR
VERSION:2.0
PRODID:Events Booking
BEGIN:VEVENT
UID:69e8d5e62d7ba
SUMMARY:AARTO Webinars
DESCRIPTION:
LOCATION:Webinar
DTSTART:20260218T070000Z
DTEND:20260218T110000Z
DTSTAMP:20251106T142639Z
ORGANIZER;CN=Transport Forum:MAILTO:info@transportsig.com
END:VEVENT
END:VCALENDAR