BEGIN:VCALENDAR
VERSION:2.0
PRODID:Events Booking
BEGIN:VEVENT
UID:69e90ad244b11
SUMMARY: AARTO Webinars
DESCRIPTION:
LOCATION:Webinar
DTSTART:20251112T070000Z
DTEND:20251112T110000Z
DTSTAMP:20251106T141826Z
ORGANIZER;CN=Transport Forum:MAILTO:info@transportsig.com
END:VEVENT
END:VCALENDAR