BEGIN:VCALENDAR
VERSION:2.0
PRODID:Events Booking
BEGIN:VEVENT
UID:69e99c3e5b4e3
SUMMARY:Africa Energy Indaba 2025
DESCRIPTION:
LOCATION:Cape Town
DTSTART:20250304T053000Z
DTEND:20250306T150000Z
DTSTAMP:20250130T215301Z
ORGANIZER;CN=Transport Forum:MAILTO:info@transportsig.com
END:VEVENT
END:VCALENDAR