BEGIN:VCALENDAR
VERSION:2.0
PRODID:Events Booking
BEGIN:VEVENT
UID:69e99c8980f48
SUMMARY:Africa Energy Indaba Exhibition - Stand
DESCRIPTION:
LOCATION:Cape Town
DTSTART:20250304T050000Z
DTEND:20250306T150000Z
DTSTAMP:20241212T063311Z
ORGANIZER;CN=Transport Forum:MAILTO:info@transportsig.com
END:VEVENT
END:VCALENDAR