BEGIN:VCALENDAR
VERSION:2.0
PRODID:Events Booking
BEGIN:VEVENT
UID:69ea6f15e8b44
SUMMARY:Africa Energy Indaba
DESCRIPTION:
LOCATION:Cape Town
DTSTART:20240305T060000Z
DTEND:20240307T150000Z
DTSTAMP:20240229T100141Z
ORGANIZER;CN=Transport Forum:MAILTO:info@transportsig.com
END:VEVENT
END:VCALENDAR