BEGIN:VCALENDAR
VERSION:2.0
PRODID:Events Booking
BEGIN:VEVENT
UID:69eaa2e74e9cb
SUMMARY:AFRICA OCCUPATIONAL HEALTH & SAFETY TECHNOLOGIES CONFERENCE
DESCRIPTION:
LOCATION:44 Viewpoint Street\, Bartlett\, Boksburg\, 1459
DTSTART:20231129T060000Z
DTEND:20231201T140000Z
DTSTAMP:20230925T042328Z
ORGANIZER;CN=Transport Forum:MAILTO:info@transportsig.com
END:VEVENT
END:VCALENDAR