BEGIN:VCALENDAR
VERSION:2.0
PRODID:Events Booking
BEGIN:VEVENT
UID:69e978b03ffe5
SUMMARY:Africa Rail:  Next Generation Rail Technologies S.L.
DESCRIPTION:
LOCATION:Sandton Convention Centre\, Johannesburg
DTSTART:20250513T060000Z
DTEND:20250514T150000Z
DTSTAMP:20250130T224949Z
ORGANIZER;CN=Transport Forum:MAILTO:info@transportsig.com
END:VEVENT
END:VCALENDAR