BEGIN:VCALENDAR
VERSION:2.0
PRODID:Events Booking
BEGIN:VEVENT
UID:69e8e7d8d8fea
SUMMARY:Africa Rail
DESCRIPTION:
LOCATION:Sandton Convention Centre\, Johannesburg
DTSTART:20260707T060000Z
DTEND:20260708T150000Z
DTSTAMP:20260323T042219Z
ORGANIZER;CN=Transport Forum:MAILTO:info@transportsig.com
END:VEVENT
END:VCALENDAR