BEGIN:VCALENDAR
VERSION:2.0
PRODID:Events Booking
BEGIN:VEVENT
UID:69e8c117a93e6
SUMMARY:Africa Tank & Terminal Operations and Maintenance Workshop
DESCRIPTION:
LOCATION:Durban Umhlanga South Africa
DTSTART:20260316T053000Z
DTEND:20260318T150000Z
DTSTAMP:20260115T024741Z
ORGANIZER;CN=Transport Forum:MAILTO:info@transportsig.com
END:VEVENT
END:VCALENDAR