BEGIN:VCALENDAR
VERSION:2.0
PRODID:Events Booking
BEGIN:VEVENT
UID:69e91c797d90a
SUMMARY:African Energy Week 2025
DESCRIPTION:
LOCATION:CTICC 2\, Cape Town
DTSTART:20250929T050000Z
DTEND:20251003T150000Z
DTSTAMP:20250726T123908Z
ORGANIZER;CN=Transport Forum:MAILTO:info@transportsig.com
END:VEVENT
END:VCALENDAR