BEGIN:VCALENDAR
VERSION:2.0
PRODID:Events Booking
BEGIN:VEVENT
UID:69ea06e578214
SUMMARY: AI innovation: OpenText Summit Africa 2024
DESCRIPTION:
LOCATION:Kyalami Grand Prix Circuit and International Convention Centre
DTSTART:20240905T060000Z
DTSTAMP:20240829T191514Z
ORGANIZER;CN=Transport Forum:MAILTO:info@transportsig.com
END:VEVENT
END:VCALENDAR