BEGIN:VCALENDAR
VERSION:2.0
PRODID:Events Booking
BEGIN:VEVENT
UID:69e989736283e
SUMMARY:Air Cargo 2025
DESCRIPTION:
LOCATION:NH Johannesburg Sandton Hotel
DTSTART:20250424T060000Z
DTEND:20250425T150000Z
DTSTAMP:20250226T172307Z
ORGANIZER;CN=Transport Forum:MAILTO:info@transportsig.com
END:VEVENT
END:VCALENDAR