BEGIN:VCALENDAR
VERSION:2.0
PRODID:Events Booking
BEGIN:VEVENT
UID:69e91c39a0844
SUMMARY:Aon Insurance Webinar
DESCRIPTION:
LOCATION:Webinar
DTSTART:20251022T080000Z
DTEND:20251022T120000Z
DTSTAMP:20251015T052502Z
ORGANIZER;CN=Transport Forum:MAILTO:info@transportsig.com
END:VEVENT
END:VCALENDAR