BEGIN:VCALENDAR
VERSION:2.0
PRODID:Events Booking
BEGIN:VEVENT
UID:69e9f46c52086
SUMMARY:ARIA Annual Golf Day 2024
DESCRIPTION:
LOCATION:Serengeti Golf & Wildlife Estate
DTSTART:20241025T050000Z
DTEND:20241025T180000Z
DTSTAMP:20240930T113449Z
ORGANIZER;CN=Transport Forum:MAILTO:info@transportsig.com
END:VEVENT
END:VCALENDAR