BEGIN:VCALENDAR
VERSION:2.0
PRODID:Events Booking
BEGIN:VEVENT
UID:69e99b33d4982
SUMMARY:27 March 2025 - ARIA Open session
DESCRIPTION:
LOCATION:Virtual
DTSTART:20250327T090000Z
DTEND:20250327T110000Z
DTSTAMP:20250308T010255Z
ORGANIZER;CN=Transport Forum:MAILTO:info@transportsig.com
END:VEVENT
END:VCALENDAR