BEGIN:VCALENDAR
VERSION:2.0
PRODID:Events Booking
BEGIN:VEVENT
UID:69e90b129f2e0
SUMMARY:Automotive Competitiveness: Webinar
DESCRIPTION:
LOCATION:Webinar
DTSTART:20251126T120000Z
DTEND:20251126T143000Z
DTSTAMP:20251106T141330Z
ORGANIZER;CN=Transport Forum:MAILTO:info@transportsig.com
END:VEVENT
END:VCALENDAR