BEGIN:VCALENDAR
VERSION:2.0
PRODID:Events Booking
BEGIN:VEVENT
UID:69e909fd338e8
SUMMARY:Autonomous e-Mobility Forum: State of Qatar
DESCRIPTION:
LOCATION:State of Qatar
DTSTART:20260907T050000Z
DTEND:20260909T150000Z
DTSTAMP:20260323T084310Z
ORGANIZER;CN=Transport Forum:MAILTO:info@transportsig.com
END:VEVENT
END:VCALENDAR