BEGIN:VCALENDAR
VERSION:2.0
PRODID:Events Booking
BEGIN:VEVENT
UID:69e8e7d959fea
SUMMARY:CILTSA Warehousing Conference 
DESCRIPTION:
LOCATION:Location: Details to follow soon
DTSTART:20260709T060000Z
DTEND:20260709T150000Z
DTSTAMP:20260312T173353Z
ORGANIZER;CN=Transport Forum:MAILTO:info@transportsig.com
END:VEVENT
END:VCALENDAR