BEGIN:VCALENDAR
VERSION:2.0
PRODID:Events Booking
BEGIN:VEVENT
UID:69e99c9563d02
SUMMARY:Citrus Growers Association of Southern Africa Summit
DESCRIPTION:
LOCATION:Gqeberha
DTSTART:20250311T050000Z
DTEND:20250313T150000Z
DTSTAMP:20250226T163813Z
ORGANIZER;CN=Transport Forum:MAILTO:info@transportsig.com
END:VEVENT
END:VCALENDAR