BEGIN:VCALENDAR
VERSION:2.0
PRODID:Events Booking
BEGIN:VEVENT
UID:69e95214d6d42
SUMMARY:Coal & Energy Transition Day 2025
DESCRIPTION:
LOCATION:Lloys Ellis Ave
DTSTART:20250723T064500Z
DTEND:20250723T150000Z
DTSTAMP:20250711T073659Z
ORGANIZER;CN=Transport Forum:MAILTO:info@transportsig.com
END:VEVENT
END:VCALENDAR