BEGIN:VCALENDAR
VERSION:2.0
PRODID:Events Booking
BEGIN:VEVENT
UID:69e90ca9ce0d6
SUMMARY:DRONE AND UNMANNED AVIATION CONFERENCE 2025
DESCRIPTION:
LOCATION:44 Viewpoint Street\, Bartlett\, Boksburg\, 1459
DTSTART:20251127T060000Z
DTEND:20251128T120000Z
DTSTAMP:20250916T160527Z
ORGANIZER;CN=Transport Forum:MAILTO:info@transportsig.com
END:VEVENT
END:VCALENDAR