BEGIN:VCALENDAR
VERSION:2.0
PRODID:Events Booking
BEGIN:VEVENT
UID:69e99b91b9f2b
SUMMARY:DRONE & UNMANNED AVIATION CONFERENCE
DESCRIPTION:
LOCATION:44 Viewpoint Street\, Bartlett\, Boksburg\, 1459
DTSTART:20250327T053000Z
DTEND:20250328T120000Z
DTSTAMP:20250130T213006Z
ORGANIZER;CN=Transport Forum:MAILTO:info@transportsig.com
END:VEVENT
END:VCALENDAR