BEGIN:VCALENDAR
VERSION:2.0
PRODID:Events Booking
BEGIN:VEVENT
UID:69e92ced219b2
SUMMARY:Durban-Gauteng Logistics Corridor
DESCRIPTION:
LOCATION:Open Calendars 
DTSTART:20250930T060000Z
DTEND:20250930T150000Z
DTSTAMP:20250918T164833Z
ORGANIZER;CN=Transport Forum:MAILTO:info@transportsig.com
END:VEVENT
END:VCALENDAR