BEGIN:VCALENDAR
VERSION:2.0
PRODID:Events Booking
BEGIN:VEVENT
UID:69e98a7918f45
SUMMARY:Free! Freight Forwarders: 19th SLN Virtual One-On-One Conference
DESCRIPTION:
LOCATION:Virtual
DTSTART:20250429T060000Z
DTEND:20250430T150000Z
DTSTAMP:20250331T111343Z
ORGANIZER;CN=Transport Forum:MAILTO:info@transportsig.com
END:VEVENT
END:VCALENDAR