BEGIN:VCALENDAR
VERSION:2.0
PRODID:Events Booking
BEGIN:VEVENT
UID:69e9dfccc5f39
SUMMARY:FREE RTMS Implementation Webinar 
DESCRIPTION:
LOCATION:Virtual
DTSTART:20241107T070000Z
DTEND:20241107T100000Z
DTSTAMP:20241022T165515Z
ORGANIZER;CN=Transport Forum:MAILTO:info@transportsig.com
END:VEVENT
END:VCALENDAR