BEGIN:VCALENDAR
VERSION:2.0
PRODID:Events Booking
BEGIN:VEVENT
UID:69e9bed19082f
SUMMARY:FREIGHT FORWARDERS: 18TH SLN VIRTUAL ONE-ON-ONE CONFERENCE
DESCRIPTION:
LOCATION:Webinar
DTSTART:20250123T060000Z
DTEND:20250124T150000Z
DTSTAMP:20241212T053813Z
ORGANIZER;CN=Transport Forum:MAILTO:info@transportsig.com
END:VEVENT
END:VCALENDAR