BEGIN:VCALENDAR
VERSION:2.0
PRODID:Events Booking
BEGIN:VEVENT
UID:69eab4dcdb2e3
SUMMARY:Fundamentals of LNG
DESCRIPTION:
LOCATION:Durban
DTSTART:20231114T060000Z
DTEND:20231117T143000Z
DTSTAMP:20230628T195551Z
ORGANIZER;CN=Transport Forum:MAILTO:info@transportsig.com
END:VEVENT
END:VCALENDAR