BEGIN:VCALENDAR
VERSION:2.0
PRODID:Events Booking
BEGIN:VEVENT
UID:69e8f19b2a454
SUMMARY:G7 Renewable Energies (Pty) Ltd
DESCRIPTION:
LOCATION:Webinar
DTSTART:20250730T120000Z
DTEND:20250730T150000Z
DTSTAMP:20250724T073907Z
ORGANIZER;CN=Transport Forum:MAILTO:info@transportsig.com
END:VEVENT
END:VCALENDAR