BEGIN:VCALENDAR
VERSION:2.0
PRODID:Events Booking
BEGIN:VEVENT
UID:69e940005bcc6
SUMMARY:GBTA Africa Annual Conference
DESCRIPTION:
LOCATION:River Meadow Manor in Irene
DTSTART:20250819T063000Z
DTEND:20250820T150000Z
DTSTAMP:20250811T064431Z
ORGANIZER;CN=Transport Forum:MAILTO:info@transportsig.com
END:VEVENT
END:VCALENDAR