BEGIN:VCALENDAR
VERSION:2.0
PRODID:Events Booking
BEGIN:VEVENT
UID:69e98972ee53a
SUMMARY:Global Mass Transit’s conference 
DESCRIPTION:
LOCATION:Dubai\, UAE
DTSTART:20250429T050000Z
DTEND:20250430T150000Z
DTSTAMP:20250114T071411Z
ORGANIZER;CN=Transport Forum:MAILTO:info@transportsig.com
END:VEVENT
END:VCALENDAR