BEGIN:VCALENDAR
VERSION:2.0
PRODID:Events Booking
BEGIN:VEVENT
UID:69e9404da404e
SUMMARY:Golf day: ARIA - African Rail Industry Association
DESCRIPTION:
LOCATION:ARIA
DTSTART:20250825T040000Z
DTEND:20250825T160000Z
DTSTAMP:20250726T122732Z
ORGANIZER;CN=Transport Forum:MAILTO:info@transportsig.com
END:VEVENT
END:VCALENDAR