BEGIN:VCALENDAR
VERSION:2.0
PRODID:Events Booking
BEGIN:VEVENT
UID:69e952b0e89db
SUMMARY:ICFF Roadshow – Durban: SAAFF NPC
DESCRIPTION:
LOCATION:Durban
DTSTART:20250710T070000Z
DTEND:20250710T103000Z
DTSTAMP:20250701T081141Z
ORGANIZER;CN=Transport Forum:MAILTO:info@transportsig.com
END:VEVENT
END:VCALENDAR