BEGIN:VCALENDAR
VERSION:2.0
PRODID:Events Booking
BEGIN:VEVENT
UID:69eab563c006b
SUMMARY:Integrated outlook of ports and specialized terminals
DESCRIPTION:
LOCATION:Durban
DTSTART:20231120T060000Z
DTEND:20231124T143000Z
DTSTAMP:20230628T200301Z
ORGANIZER;CN=Transport Forum:MAILTO:info@transportsig.com
END:VEVENT
END:VCALENDAR