BEGIN:VCALENDAR
VERSION:2.0
PRODID:Events Booking
BEGIN:VEVENT
UID:69e92d84de76c
SUMMARY:International Federation of Consulting Engineers
DESCRIPTION:
LOCATION:Cape Town ICC
DTSTART:20250921T060000Z
DTEND:20250923T150000Z
DTSTAMP:20250916T164259Z
ORGANIZER;CN=Transport Forum:MAILTO:info@transportsig.com
END:VEVENT
END:VCALENDAR