BEGIN:VCALENDAR
VERSION:2.0
PRODID:Events Booking
BEGIN:VEVENT
UID:69e951f8e4354
SUMMARY:International remote job workshop
DESCRIPTION:
LOCATION:University of Johannesburg
DTSTART:20250731T070000Z
DTEND:20250731T133000Z
DTSTAMP:20250722T193242Z
ORGANIZER;CN=Transport Forum:MAILTO:info@transportsig.com
END:VEVENT
END:VCALENDAR