BEGIN:VCALENDAR
VERSION:2.0
PRODID:Events Booking
BEGIN:VEVENT
UID:69e8f99462388
SUMMARY:IRF 2025 Annual Conference
DESCRIPTION:
LOCATION:Online
DTSTART:20251202T060000Z
DTEND:20251204T143000Z
DTSTAMP:20250916T162256Z
ORGANIZER;CN=Transport Forum:MAILTO:info@transportsig.com
END:VEVENT
END:VCALENDAR